BEGIN:VCALENDAR
VERSION:2.0
PRODID:-//Travis County Women Lawyers&#039; Association - ECPv6.15.20//NONSGML v1.0//EN
CALSCALE:GREGORIAN
METHOD:PUBLISH
X-WR-CALNAME:Travis County Women Lawyers&#039; Association
X-ORIGINAL-URL:https://tcwla.org
X-WR-CALDESC:Events for Travis County Women Lawyers&#039; Association
REFRESH-INTERVAL;VALUE=DURATION:PT1H
X-Robots-Tag:noindex
X-PUBLISHED-TTL:PT1H
BEGIN:VTIMEZONE
TZID:America/Chicago
BEGIN:DAYLIGHT
TZOFFSETFROM:-0600
TZOFFSETTO:-0500
TZNAME:CDT
DTSTART:20240310T080000
END:DAYLIGHT
BEGIN:STANDARD
TZOFFSETFROM:-0500
TZOFFSETTO:-0600
TZNAME:CST
DTSTART:20241103T070000
END:STANDARD
BEGIN:DAYLIGHT
TZOFFSETFROM:-0600
TZOFFSETTO:-0500
TZNAME:CDT
DTSTART:20250309T080000
END:DAYLIGHT
BEGIN:STANDARD
TZOFFSETFROM:-0500
TZOFFSETTO:-0600
TZNAME:CST
DTSTART:20251102T070000
END:STANDARD
BEGIN:DAYLIGHT
TZOFFSETFROM:-0600
TZOFFSETTO:-0500
TZNAME:CDT
DTSTART:20260308T080000
END:DAYLIGHT
BEGIN:STANDARD
TZOFFSETFROM:-0500
TZOFFSETTO:-0600
TZNAME:CST
DTSTART:20261101T070000
END:STANDARD
END:VTIMEZONE
BEGIN:VEVENT
DTSTART;VALUE=DATE:20251103
DTEND;VALUE=DATE:20251104
DTSTAMP:20260421T060735
CREATED:20250930T193722Z
LAST-MODIFIED:20251104T021504Z
UID:4635-1762128000-1762214399@tcwla.org
SUMMARY:TCWLA and the Minority Women Pursuing Law Clothing Drive
DESCRIPTION:TCWLA will be participating in the Minority Women Pursuing Law “MWPL” clothing drive. \nIt is scheduled for Monday\, November 3rd.  TCWLA will have collections sites.  We want to provide MWPL with access to professional clothing so that they may walk into all spaces and opportunities while pursing a career in law with confidence.  Please go through your closets and identify donations.  They are looking for professional attire\, including but not limited to: blazers\, pants\, shoes\, blouses\, suits and dresses all in good condition. \nPlease drop off your items no later than 10/29 at one of the following locations: \nNorth   Nielsen Law PLLC\, 8705 Shoal Creek Blvd #105\, Austin\, Texas 78757    The door to the office is in the center courtyard around the koi pond. \nCentral   Eccles & McIntosh 506 W 16th street\, Austin\, Texas 78701 or Lloyd Gosselink Rochelle & Townsend\, P.C.  816 Congress Ave.\, Suite 1900\, Austin\, TX 78701 \nSouth    Law Office of Jennifer D. Ward\, PLLC.\, 2499 S. Capital of TX Hwy\, Suite B-203\, Austin\, TX 78746 \nContact TCWLA Community Service Chair\, Beth Payan.
URL:https://tcwla.org/event/tcwla-and-the-minority-women-pursuing-law-clothing-drive/
LOCATION:TX
CATEGORIES:member event,volunteer
ATTACH;FMTTYPE=image/png:https://tcwla.org/wp-content/uploads/2025/09/Flyer-for-MWPL-Clothing-Drive.png
END:VEVENT
BEGIN:VEVENT
DTSTART;TZID=America/Chicago:20251105T113000
DTEND;TZID=America/Chicago:20251105T130000
DTSTAMP:20260421T060735
CREATED:20250903T221649Z
LAST-MODIFIED:20251104T022955Z
UID:4571-1762342200-1762347600@tcwla.org
SUMMARY:Pathfinders Luncheon
DESCRIPTION:We are excited to announce that the 2025–2026 TCWLA Pathfinders’ Luncheon will be held on Wednesday\, November 5\, 2025\, at 11:30 AM at the UT Etter-Harbin Alumni Center. This annual luncheon celebrates three extraordinary women attorneys who have used their law degrees to make a lasting impact on the profession and our community. Mark your calendars — we look forward to honoring this year’s honorees together in November! \nPathfinders are role models and trailblazers — local women with law degrees who are using\, and have used\, their degrees in a variety of ways  to impact our community and the legal profession. Every year\, TCWLA makes an effort to select and honor a panel of Pathfinders who represent a diversity of life and career experiences. We invite them to share their stories and the result is a thought-provoking and inspiring program you won’t want to miss. \nThis year’s Pathfinders are: \nTravis County Commissioner Ann Howard\nU.S. Magistrate Judge Susan Hightower\nJudy Kostura\n  \n Tickets are available for $65 for a single ticket (open seating) and $500 for a reserved table of 7 seats. \nThank you to our sponsors Argent Trust Company\, STENO Court Reporting\, Gay Thompson at Per Sterling\, and Seth Alcozer at Legal Logistics Consulting. \n\n\nLoading…
URL:https://tcwla.org/event/pathfinders-luncheon/
LOCATION:UT Etter-Harbin Alumni Center\, 2110 San Jacinto Blvd\, Austin\, TX\, 78712\, United States
CATEGORIES:member event,Social
ATTACH;FMTTYPE=image/png:https://tcwla.org/wp-content/uploads/2025/09/Image-2-e1762223386172.png
END:VEVENT
BEGIN:VEVENT
DTSTART;TZID=America/Chicago:20251108T160000
DTEND;TZID=America/Chicago:20251108T190000
DTSTAMP:20260421T060735
CREATED:20251016T163121Z
LAST-MODIFIED:20251016T163332Z
UID:4678-1762617600-1762628400@tcwla.org
SUMMARY:November Burn & Brunch: Top Golf Edition
DESCRIPTION:Please join us November 8 from 4:00-7:00 at Top Golf for this new edition of Burn & Brunch!  Burn and Brunch is an exciting concept that merges fitness and food and friendship\, providing a unique experience for those seeking a healthy and social lifestyle. Whether you’re a fitness enthusiast or just looking for a fun way to spend your weekend\, Burn and Brunch has something for everyone. So why not give it a try? Or join us again! Come practice your golf swing\, have fun with friends\, and indulge in a delicious drinks and food!  Thank you to our sponsor: Stone Hilton. \nRegister here:  \n\n\nLoading…
URL:https://tcwla.org/event/november-burn-brunch-top-golf-edition/
LOCATION:Top Golf\, 2700 Esperanza Crossing\, Austin\, TX\, 78758
CATEGORIES:member event,Social
ATTACH;FMTTYPE=image/webp:https://tcwla.org/wp-content/uploads/2025/10/golf.webp
END:VEVENT
BEGIN:VEVENT
DTSTART;TZID=America/Chicago:20251113T173000
DTEND;TZID=America/Chicago:20251113T193000
DTSTAMP:20260421T060735
CREATED:20251101T070034Z
LAST-MODIFIED:20251104T021240Z
UID:4690-1763055000-1763062200@tcwla.org
SUMMARY:2025 Fellows Appreciation Gathering
DESCRIPTION:2025 Fellows Appreciation Gathering\nThis year’s Fellows* Appreciation Event will be Thursday\, November 13 from 5:30 to 7:30 pm at the Travis County Civil and Family Courts Facility. Please join us in honoring our Fellows—the generous lawyers who pledge annual donations to the Foundation.  Hors d’oeuvres\, wine\, and other beverages will be served.  The Travis County Civil and Family Courts Facility\, 12th floor is located at 1700 Guadalupe St.\, Austin\, TX 78701. \nDon’t miss this opportunity to recognize our Fellows and mingle with other Foundation members. \nThe event is free to all Fellows. Fellows are also welcome to invite a guest who would like to become a Fellow. \n*Fellows are attorneys who have pledged annual donations to support TCWLF\, the non-profit charitable counterpart of TCWLA. Each year\, TCWLF awards grants to local non-profits that provide legal services to women\, children\, and families in our community. This would not be possible without the support of our Fellows. If you would like to attend this event\, please click here to learn more about and to become a Fellow before registering.\n  \nRegister for the event here
URL:https://tcwla.org/event/2025-fellows-appreciation-gathering/
LOCATION:Travis County Civil and Family Courts Facility\, 1700 Guadalupe St\, 12th Floor\, Austin\, Texas\, 78701
CATEGORIES:foundation,member event,Social
ATTACH;FMTTYPE=image/png:https://tcwla.org/wp-content/uploads/2025/11/2025-tcwla-fellows-appreciation-happy-hour-1300-x-756-px.png
END:VEVENT
END:VCALENDAR