BEGIN:VCALENDAR
VERSION:2.0
PRODID:-//Travis County Women Lawyers&#039; Association - ECPv6.15.20//NONSGML v1.0//EN
CALSCALE:GREGORIAN
METHOD:PUBLISH
X-WR-CALNAME:Travis County Women Lawyers&#039; Association
X-ORIGINAL-URL:https://tcwla.org
X-WR-CALDESC:Events for Travis County Women Lawyers&#039; Association
REFRESH-INTERVAL;VALUE=DURATION:PT1H
X-Robots-Tag:noindex
X-PUBLISHED-TTL:PT1H
BEGIN:VTIMEZONE
TZID:America/Chicago
BEGIN:DAYLIGHT
TZOFFSETFROM:-0600
TZOFFSETTO:-0500
TZNAME:CDT
DTSTART:20240310T080000
END:DAYLIGHT
BEGIN:STANDARD
TZOFFSETFROM:-0500
TZOFFSETTO:-0600
TZNAME:CST
DTSTART:20241103T070000
END:STANDARD
BEGIN:DAYLIGHT
TZOFFSETFROM:-0600
TZOFFSETTO:-0500
TZNAME:CDT
DTSTART:20250309T080000
END:DAYLIGHT
BEGIN:STANDARD
TZOFFSETFROM:-0500
TZOFFSETTO:-0600
TZNAME:CST
DTSTART:20251102T070000
END:STANDARD
BEGIN:DAYLIGHT
TZOFFSETFROM:-0600
TZOFFSETTO:-0500
TZNAME:CDT
DTSTART:20260308T080000
END:DAYLIGHT
BEGIN:STANDARD
TZOFFSETFROM:-0500
TZOFFSETTO:-0600
TZNAME:CST
DTSTART:20261101T070000
END:STANDARD
END:VTIMEZONE
BEGIN:VEVENT
DTSTART;TZID=America/Chicago:20251003T120000
DTEND;TZID=America/Chicago:20251003T130000
DTSTAMP:20260421T035448
CREATED:20250920T144656Z
LAST-MODIFIED:20251002T150017Z
UID:4607-1759492800-1759496400@tcwla.org
SUMMARY:FALL CLE
DESCRIPTION:Please join TCWLA on Friday\, October 3\, 2025\, for a Continuing Legal Education opportunity. The Travis County Clerk and Travis County District Clerk will present valuable information about their offices\, including how court rules and laws are applied\, access to justice initiatives\, and the efficient administration of the justice system through the clerks’ offices. Lunch will be available for $15. \nRegister at: \n\n\nLoading…
URL:https://tcwla.org/event/fall-cle/
LOCATION:Travis County Civil and Family Court Facility\, 1700 Guadalupe St\, Austin
CATEGORIES:bookclub,member event
ATTACH;FMTTYPE=image/jpeg:https://tcwla.org/wp-content/uploads/2025/09/Fall-CLE-Flyer-e1759103382469.jpg
END:VEVENT
BEGIN:VEVENT
DTSTART;TZID=America/Chicago:20251011T090000
DTEND;TZID=America/Chicago:20251011T110000
DTSTAMP:20260421T035448
CREATED:20250930T191339Z
LAST-MODIFIED:20250930T193301Z
UID:4627-1760173200-1760180400@tcwla.org
SUMMARY:October Burn & Brunch : Hiking with AYLA
DESCRIPTION:Join us for a joint event with AYLA – Our October Burn & Brunch : Hiking Edition!\nBurn & Brunch is an exciting concept that merges fitness and food and friendship\, providing a unique experience for those seeking a healthy and social lifestyle. Whether you’re a fitness enthusiast or just looking for a fun way to spend your weekend\, Burn and Brunch has something for everyone. So why not give it a try? Or join us again! Come out with us to enjoy nature\, get in some cardio\, indulge in a delicious meal\, and spend some time with our AYLA colleagues – your body and mind will thank you! The hike for this joint event will be led by one of our own: TCWLA member and attorney\, Kelsey Daugherty.  Meet at 1710 Camp Craft Rd\, Austin\, TX 78746 at 9:00 a.m. \nThen\, after our hike\, we will all meet at Day Maker Half Day Cafe for brunch! 1101 S MoPac Expy\, Austin\, TX 78746. No pre-ordering for this event. Participants can order/pay at the restaurant itself. \nAdditional details/changes will be sent out to those registered for the event.  Register here –  \n\n\nLoading…
URL:https://tcwla.org/event/october-burn-brunch-hiking-with-ayla/
LOCATION:1710 Camp Craft Rd\, Austin\, TX 78746\, 1710 Camp Craft Rd\, Austin\, 78746
ATTACH;FMTTYPE=image/webp:https://tcwla.org/wp-content/uploads/2025/09/OIP.webp
END:VEVENT
BEGIN:VEVENT
DTSTART;TZID=America/Chicago:20251014T170000
DTEND;TZID=America/Chicago:20251014T190000
DTSTAMP:20260421T035448
CREATED:20251001T162537Z
LAST-MODIFIED:20251001T163042Z
UID:4643-1760461200-1760468400@tcwla.org
SUMMARY:Austin Diversity Report Card Release Reception
DESCRIPTION:Please come to the reception for the release of the Austin Diversity report Card. on October 14 from 5:00-7:00 pm at the office of McGinnis Lochridge (1111 West 6th Street).  Registration link is below! \n2024-2025 Austin Diversity Report Card Release Tickets\, Tue\, Oct 14\, 2025 at 5:00 PM | Eventbrite [eventbrite.com]
URL:https://tcwla.org/event/austin-diversity-report-card-release-reception/
LOCATION:McGinnis Lochridge\, 1111 W 6th St Ste. 400 Bldg. B\, Austin\, TX 78703\, McGinnis Lochridge\, 1111 W 6th St Ste. 400 Bldg. B\, Austin\, TX 78703
ATTACH;FMTTYPE=image/png:https://tcwla.org/wp-content/uploads/2025/10/Diversity-Report-Card-Release-Flyer-1.png
END:VEVENT
BEGIN:VEVENT
DTSTART;TZID=America/Chicago:20251019T090000
DTEND;TZID=America/Chicago:20251019T100000
DTSTAMP:20260421T035448
CREATED:20250820T164551Z
LAST-MODIFIED:20250820T175843Z
UID:4512-1760864400-1760868000@tcwla.org
SUMMARY:October Burn & Brunch: Yoga Edition
DESCRIPTION:Join us on October 19 at 9:00 am for our October Burn & Brunch: Yoga Edition at the beautiful Wild and Beautiful Natural Aesthetics (500 W 38th St)! \nBurn & Brunch is an exciting concept that merges fitness and food and friendship\, providing a unique experience for those seeking a healthy and social lifestyle. Whether you’re a fitness enthusiast or just looking for a fun way to spend your weekend\, Burn and Brunch has something for everyone. So why not give it a try? Or join us again! Come sweat\, meditate and indulge in a delicious meal – your body and mind will thank you! \nRegister here:  \n\n\nLoading…
URL:https://tcwla.org/event/october-burn-brunch-yoga-edition/
LOCATION:Wild and Beautiful Natural Aesthetics\, 500 W 38th St\, Austin\, TX\, 78705
CATEGORIES:member event,Social
ATTACH;FMTTYPE=image/jpeg:https://tcwla.org/wp-content/uploads/2025/03/download.jpg
END:VEVENT
BEGIN:VEVENT
DTSTART;TZID=America/Chicago:20251019T100000
DTEND;TZID=America/Chicago:20251019T130000
DTSTAMP:20260421T035448
CREATED:20251001T171532Z
LAST-MODIFIED:20251001T171931Z
UID:4656-1760868000-1760878800@tcwla.org
SUMMARY:Community Services SAFE Volunteer Event
DESCRIPTION:TCWLA Community Service is partnering with AYLA for a volunteer day at SAFE Alliance on Sunday\, October 19th from 10-1 at the SAFE Alliance Warehouse on 1401 Grove Blvd.  We will join for lunch together afterwards if you are available.  This is a wonderful opportunity to volunteer for a great organization with friends from TCWLA and AYLA and is family friendly. Volunteers 12 years old and up are welcome!  Spots are limited\, so please register with AYLA here: AYLA Community Service Day – SAFE – AYLA Events. \n  \n  \n 
URL:https://tcwla.org/event/community-services-safe-volunteer-event/
LOCATION:SAFE Alliance Warehouse\, 1401 Grove Blvd\, Austin\, TX\, 78741
CATEGORIES:volunteer
ATTACH;FMTTYPE=image/png:https://tcwla.org/wp-content/uploads/2025/10/SAFE-1019.png
END:VEVENT
BEGIN:VEVENT
DTSTART;TZID=America/Chicago:20251022T120000
DTEND;TZID=America/Chicago:20251022T130000
DTSTAMP:20260421T035448
CREATED:20250929T171344Z
LAST-MODIFIED:20250929T230642Z
UID:4621-1761134400-1761138000@tcwla.org
SUMMARY:Power Reads Book Club Meeting
DESCRIPTION:You know what we always say\, all leaders are readers.  Please come to the TCWLA Power Reads Book Club’s first meeting of the year on October 22 from 12:00-1:00 at the Civil Family and Courts Facility in the 6th floor conference room (there will be someone outside in the common space to let you inside).  We are excited to announce that the first book selection of the year is Talking to Strangers: What We Should Know About the People We Don’t Know by Malcolm Gladwell. \nAvid reader and TCWLA book club fan\, Judge Jan Soifer will lead the discussion of this impactful book and we have also received approval for CLE credit!  Please register below and come read with us\, come lead with us! \n\n\nLoading…
URL:https://tcwla.org/event/power-reads-book-club-meeting/
LOCATION:Travis County Civil and Family Court Facility\, 1700 Guadalupe St\, Austin
CATEGORIES:bookclub,cle,member event
ATTACH;FMTTYPE=image/jpeg:https://tcwla.org/wp-content/uploads/2025/09/71mmN9Iw9WL._SX522_.jpg
END:VEVENT
END:VCALENDAR