BEGIN:VCALENDAR
VERSION:2.0
PRODID:-//Travis County Women Lawyers&#039; Association - ECPv6.15.20//NONSGML v1.0//EN
CALSCALE:GREGORIAN
METHOD:PUBLISH
X-WR-CALNAME:Travis County Women Lawyers&#039; Association
X-ORIGINAL-URL:https://tcwla.org
X-WR-CALDESC:Events for Travis County Women Lawyers&#039; Association
REFRESH-INTERVAL;VALUE=DURATION:PT1H
X-Robots-Tag:noindex
X-PUBLISHED-TTL:PT1H
BEGIN:VTIMEZONE
TZID:America/Chicago
BEGIN:DAYLIGHT
TZOFFSETFROM:-0600
TZOFFSETTO:-0500
TZNAME:CDT
DTSTART:20240310T080000
END:DAYLIGHT
BEGIN:STANDARD
TZOFFSETFROM:-0500
TZOFFSETTO:-0600
TZNAME:CST
DTSTART:20241103T070000
END:STANDARD
BEGIN:DAYLIGHT
TZOFFSETFROM:-0600
TZOFFSETTO:-0500
TZNAME:CDT
DTSTART:20250309T080000
END:DAYLIGHT
BEGIN:STANDARD
TZOFFSETFROM:-0500
TZOFFSETTO:-0600
TZNAME:CST
DTSTART:20251102T070000
END:STANDARD
BEGIN:DAYLIGHT
TZOFFSETFROM:-0600
TZOFFSETTO:-0500
TZNAME:CDT
DTSTART:20260308T080000
END:DAYLIGHT
BEGIN:STANDARD
TZOFFSETFROM:-0500
TZOFFSETTO:-0600
TZNAME:CST
DTSTART:20261101T070000
END:STANDARD
END:VTIMEZONE
BEGIN:VEVENT
DTSTART;TZID=America/Chicago:20250913T090000
DTEND;TZID=America/Chicago:20250913T230000
DTSTAMP:20260421T021635
CREATED:20250827T234520Z
LAST-MODIFIED:20250827T235105Z
UID:4546-1757754000-1757804400@tcwla.org
SUMMARY:September Burn & Brunch: Hiking Edition
DESCRIPTION:Join us for our September Burn & Brunch: Hiking Edition on September 13\, 9:00 am\, at Pease Park (1100 Kingsbury St\, Austin\, TX 78703)! \nBurn & Brunch is an exciting concept that merges fitness and food and friendship\, providing a unique experience for those seeking a healthy and social lifestyle. Whether you’re a fitness enthusiast or just looking for a fun way to spend your weekend\, Burn and Brunch has something for everyone. So why not give it a try? Or join us again! Come out with us to enjoy nature\, get in some cardio\, and indulge in a delicious meal – your body and mind will thank you! \nAfter our hike we will all meet at Phoebe’s Diner – Downtown for brunch! 408 W 11th St. No pre-ordering for this event. Participants can order/pay at the restaurant itself. \nRegister here:  \n\n\nLoading…
URL:https://tcwla.org/event/september-burn-brunch-hiking-edition/
LOCATION:Pease Park\, Pease Park\, 1100 Kingsbury St\, Austin\, TX\, 78703\, United States
CATEGORIES:member event,Social
ATTACH;FMTTYPE=image/webp:https://tcwla.org/wp-content/uploads/2025/08/OIP.webp
END:VEVENT
BEGIN:VEVENT
DTSTART;TZID=America/Chicago:20250921T090000
DTEND;TZID=America/Chicago:20250921T230000
DTSTAMP:20260421T021635
CREATED:20250820T151631Z
LAST-MODIFIED:20250820T175908Z
UID:4506-1758445200-1758495600@tcwla.org
SUMMARY:September Burn & Brunch: Yoga Edition
DESCRIPTION:Join us on September 21 at 9:00 am for our September Burn & Brunch: Yoga Edition at the beautiful Wild and Beautiful Natural Aesthetics (500 W 38th St)! \nBurn & Brunch is an exciting concept that merges fitness and food and friendship\, providing a unique experience for those seeking a healthy and social lifestyle. Whether you’re a fitness enthusiast or just looking for a fun way to spend your weekend\, Burn and Brunch has something for everyone. So why not give it a try? Or join us again! Come sweat\, meditate and indulge in a delicious meal – your body and mind will thank you! \nRegister here:  \n\n\nLoading…
URL:https://tcwla.org/event/september-burn-brunch-yoga-edition/
LOCATION:Wild and Beautiful Natural Aesthetics\, 500 W 38th St\, Austin\, TX\, 78705
CATEGORIES:member event,Social
ATTACH;FMTTYPE=image/jpeg:https://tcwla.org/wp-content/uploads/2025/03/download.jpg
END:VEVENT
BEGIN:VEVENT
DTSTART;TZID=America/Chicago:20250924T170000
DTEND;TZID=America/Chicago:20250924T190000
DTSTAMP:20260421T021635
CREATED:20250814T155610Z
LAST-MODIFIED:20250814T184003Z
UID:4495-1758733200-1758740400@tcwla.org
SUMMARY:Fall Membership Event
DESCRIPTION:Please join us for our Fall Membership Appreciation at The Women’s Gallery by Julie Ahmad\, 2311 Thornton Road UNIT J & K\, Austin\, TX 78704\, on September 24\, 2025\, from 5–7 p.m.! It will be an evening to welcome new members and reconnect with old friends. Enjoy light bites\, beverages\, and great company as we kick off a new season of creativity\, connection\, and community. We can’t wait to see you there! \nLearn more about our venue space at: https://www.thewomensgallery.org/ [thewomensgallery.org] \nThank you to Queen of To Do and FindLaw for their generous sponsorships of this event! \nQueen of To Do – Austin’s Personal Assistant & Life Concierge Service \nFind Laws\, Legal Help\, and Attorneys – FindLaw \nRegister here:  \n\n\nLoading…
URL:https://tcwla.org/event/fall-membership-event-3/
LOCATION:The Women’s Galllery by Julie Ahmad\, 2311 Thornton Road UNIT J & K\, Austin\, TX\, 78704
CATEGORIES:member event,Social
ATTACH;FMTTYPE=image/jpeg:https://tcwla.org/wp-content/uploads/2024/08/thanksgiving02welcomemotion.jpg
END:VEVENT
END:VCALENDAR