BEGIN:VCALENDAR
VERSION:2.0
PRODID:-//Travis County Women Lawyers&#039; Association - ECPv6.15.20//NONSGML v1.0//EN
CALSCALE:GREGORIAN
METHOD:PUBLISH
X-WR-CALNAME:Travis County Women Lawyers&#039; Association
X-ORIGINAL-URL:https://tcwla.org
X-WR-CALDESC:Events for Travis County Women Lawyers&#039; Association
REFRESH-INTERVAL;VALUE=DURATION:PT1H
X-Robots-Tag:noindex
X-PUBLISHED-TTL:PT1H
BEGIN:VTIMEZONE
TZID:America/Chicago
BEGIN:DAYLIGHT
TZOFFSETFROM:-0600
TZOFFSETTO:-0500
TZNAME:CDT
DTSTART:20200308T080000
END:DAYLIGHT
BEGIN:STANDARD
TZOFFSETFROM:-0500
TZOFFSETTO:-0600
TZNAME:CST
DTSTART:20201101T070000
END:STANDARD
BEGIN:DAYLIGHT
TZOFFSETFROM:-0600
TZOFFSETTO:-0500
TZNAME:CDT
DTSTART:20210314T080000
END:DAYLIGHT
BEGIN:STANDARD
TZOFFSETFROM:-0500
TZOFFSETTO:-0600
TZNAME:CST
DTSTART:20211107T070000
END:STANDARD
BEGIN:DAYLIGHT
TZOFFSETFROM:-0600
TZOFFSETTO:-0500
TZNAME:CDT
DTSTART:20220313T080000
END:DAYLIGHT
BEGIN:STANDARD
TZOFFSETFROM:-0500
TZOFFSETTO:-0600
TZNAME:CST
DTSTART:20221106T070000
END:STANDARD
END:VTIMEZONE
BEGIN:VTIMEZONE
TZID:UTC
BEGIN:STANDARD
TZOFFSETFROM:+0000
TZOFFSETTO:+0000
TZNAME:UTC
DTSTART:20200101T000000
END:STANDARD
END:VTIMEZONE
BEGIN:VEVENT
DTSTART;TZID=America/Chicago:20211027T173000
DTEND;TZID=America/Chicago:20211027T190000
DTSTAMP:20260420T020415
CREATED:20211002T105752Z
LAST-MODIFIED:20211021T113153Z
UID:1760-1635355800-1635361200@tcwla.org
SUMMARY:October Member Event
DESCRIPTION:Please join us on Wednesday\, October 27 at 5:30 p.m. for TCWLA’s in-person fall celebration of members. There will be refreshments\, light bites\, and lots of opportunities to meet other TCWLA members!  It be a COVID respectful event and will be outdoors. \nUpstairs at Caroline\n621 Congress Ave STE 201\nAustin\, TX 78701 \nThis event is free for members. You can join TCWLA or renew your membership at the event\, or prior to the event here. If you join TCWLA or renew your membership before or at this event\, you can do so at last year’s reduced rate. If you bring a non-member to the event\, they can attend for free and can join at the event\, also at the reduced amount!\n \n\nTo pay your membership by check\, mail your payment to: \nTCWLA\nPO Box 160334\nAustin\, TX 78716\n \n\nThis event is generously sponsored by Courtney Oldham\, owner/broker at Oldham Real Estate. \n \n\n  \nREGISTER\n  \n\n\nLoading…\n\n\n\n 
URL:https://tcwla.org/event/october-member-event/
LOCATION:Upstairs at Caroline\, 621 Congress Ave STE 201\, Austin\, TX\, 78701\, United States
CATEGORIES:member event
ATTACH;FMTTYPE=image/jpeg:https://tcwla.org/wp-content/uploads/2021/10/oct-member-event.jpg
END:VEVENT
BEGIN:VEVENT
DTSTART;TZID=UTC:20211020T114500
DTEND;TZID=UTC:20211020T130000
DTSTAMP:20260420T020415
CREATED:20210919T012145Z
LAST-MODIFIED:20210926T023513Z
UID:1455-1634730300-1634734800@tcwla.org
SUMMARY:CLE Lunch Membership Meeting: Privacy Law Update
DESCRIPTION:CLE Privacy Law Update\nThis 1-hour session will provide an update on privacy laws recently passed in states like California and Virginia protecting individual data privacy\, and why Texas companies who do business in those states will need to evaluate their own privacy programs.  Recent ransomware attacks have been in the headlines\, and Privacy Assessments for companies and individuals are of paramount importance. Jennifer Kuhn\, IP & Privacy Partner\, CIPP/US\, CIPM will share her expertise and knowledge on what every attorney needs to know to assist their clients with privacy law compliance and assessments. \nEarn 1.0 hours CLE credit. Check-in and networking will begin at 11:45\, and the presentation will begin promptly at 12:00. \nRegister for In-Person with Lunch – $12 plus tax\nRegister for In-Person without Lunch – free for members\nRegister for Remote Zoom – free for members\n(The zoom information will be emailed out to registrants the day before) \nSpecial thanks to our sponsor:  Chase Kincannon of Capital Strategies \n  \nREGISTER HERE\n\n\nLoading…
URL:https://tcwla.org/event/cle-lunch-membership-meeting-privacy-law-update/
LOCATION:McGinnis Lochridge (NEW office)\, 1111 West Sixth Street\, 4th floor\, Austin\, Texas\, 78703
CATEGORIES:cle
ATTACH;FMTTYPE=image/jpeg:https://tcwla.org/wp-content/uploads/2021/09/privacy-update.jpg
END:VEVENT
BEGIN:VEVENT
DTSTART;TZID=UTC:20211014T120000
DTEND;TZID=UTC:20211014T130000
DTSTAMP:20260420T020415
CREATED:20210919T001722Z
LAST-MODIFIED:20210929T035343Z
UID:1437-1634212800-1634216400@tcwla.org
SUMMARY:Power Reads Book Club - October 14
DESCRIPTION:TCWLA Power Reads Book Club\nJoin the TCWLA Power Reads book club on Thursday October 14th at noon for our first of four book club meetings this year! \nFor our October meeting\, we are reading: Lead from the Outside: How to Build Your Future and Make Real Change\, by Stacey Abrams. \nBook club is free to all members of TCWLA. We will meet over zoom until it is safe to meet in person again\, hopefully soon. \nWe look forward to a great discussion and hope to see you there! \nSee what we will be reading in the future here! \n  \nREGISTER HERE\n\n\nLoading…\n\n\n\n  \n  \n 
URL:https://tcwla.org/event/power-reads-book-club-october/
LOCATION:VIRTUAL
CATEGORIES:bookclub
ATTACH;FMTTYPE=image/jpeg:https://tcwla.org/wp-content/uploads/2021/09/The-10-Best-Business-Books-for-Women.jpg
END:VEVENT
END:VCALENDAR