BEGIN:VCALENDAR
VERSION:2.0
PRODID:-//Travis County Women Lawyers&#039; Association - ECPv6.15.20//NONSGML v1.0//EN
CALSCALE:GREGORIAN
METHOD:PUBLISH
X-WR-CALNAME:Travis County Women Lawyers&#039; Association
X-ORIGINAL-URL:https://tcwla.org
X-WR-CALDESC:Events for Travis County Women Lawyers&#039; Association
REFRESH-INTERVAL;VALUE=DURATION:PT1H
X-Robots-Tag:noindex
X-PUBLISHED-TTL:PT1H
BEGIN:VTIMEZONE
TZID:America/Chicago
BEGIN:DAYLIGHT
TZOFFSETFROM:-0600
TZOFFSETTO:-0500
TZNAME:CDT
DTSTART:20240310T080000
END:DAYLIGHT
BEGIN:STANDARD
TZOFFSETFROM:-0500
TZOFFSETTO:-0600
TZNAME:CST
DTSTART:20241103T070000
END:STANDARD
BEGIN:DAYLIGHT
TZOFFSETFROM:-0600
TZOFFSETTO:-0500
TZNAME:CDT
DTSTART:20250309T080000
END:DAYLIGHT
BEGIN:STANDARD
TZOFFSETFROM:-0500
TZOFFSETTO:-0600
TZNAME:CST
DTSTART:20251102T070000
END:STANDARD
BEGIN:DAYLIGHT
TZOFFSETFROM:-0600
TZOFFSETTO:-0500
TZNAME:CDT
DTSTART:20260308T080000
END:DAYLIGHT
BEGIN:STANDARD
TZOFFSETFROM:-0500
TZOFFSETTO:-0600
TZNAME:CST
DTSTART:20261101T070000
END:STANDARD
END:VTIMEZONE
BEGIN:VEVENT
DTSTART;TZID=America/Chicago:20250426T090000
DTEND;TZID=America/Chicago:20250426T110000
DTSTAMP:20260424T163226
CREATED:20250417T220051Z
LAST-MODIFIED:20250417T220243Z
UID:4393-1745658000-1745665200@tcwla.org
SUMMARY:Ronald McDonald House Charities of Central Texas
DESCRIPTION:Please join us Saturday\, April 26 from 9–11 AM to support families facing one of life’s hardest moments — caring for a seriously ill child. \nWe’ll assemble snack kits for Ronald McDonald House Charities of Central Texas\, which provides shelter\, meals\, and comfort to families with children undergoing treatment at Dell Children’s. These kits offer small moments of relief during incredibly difficult days. \nJoin us for brunch after the volunteer shift! \nIf possible\, please bring store-bought\, unopened\, shelf-stable snacks (Goldfish\, Rice Krispies\, Cheez-Its\, chips). We’ll provide bags and supplies to add handwritten notes of encouragement. \nDate: Saturday April 26\, 2025 \nTime: 9:00 am – 11:00 am \nPlace: Skelton & Woody\, PLLC\, 248 Addie Roy Road #B-302 \nRSVP: Please RSVP at the following link by Wednesday\, April 23 or to Katherine Wyatt (512) 906-9094.
URL:https://tcwla.org/event/ronald-mcdonald-house-charities-of-central-texas/
LOCATION:Skelton & Woody\, 248 Addie Roy Road #B-302\, Austin\, Texas
CATEGORIES:member event,volunteer
ATTACH;FMTTYPE=image/png:https://tcwla.org/wp-content/uploads/2025/04/Picture1.png
END:VEVENT
END:VCALENDAR