BEGIN:VCALENDAR
VERSION:2.0
PRODID:-//Travis County Women Lawyers&#039; Association - ECPv6.15.20//NONSGML v1.0//EN
CALSCALE:GREGORIAN
METHOD:PUBLISH
X-WR-CALNAME:Travis County Women Lawyers&#039; Association
X-ORIGINAL-URL:https://tcwla.org
X-WR-CALDESC:Events for Travis County Women Lawyers&#039; Association
REFRESH-INTERVAL;VALUE=DURATION:PT1H
X-Robots-Tag:noindex
X-PUBLISHED-TTL:PT1H
BEGIN:VTIMEZONE
TZID:America/Chicago
BEGIN:DAYLIGHT
TZOFFSETFROM:-0600
TZOFFSETTO:-0500
TZNAME:CDT
DTSTART:20250309T080000
END:DAYLIGHT
BEGIN:STANDARD
TZOFFSETFROM:-0500
TZOFFSETTO:-0600
TZNAME:CST
DTSTART:20251102T070000
END:STANDARD
BEGIN:DAYLIGHT
TZOFFSETFROM:-0600
TZOFFSETTO:-0500
TZNAME:CDT
DTSTART:20260308T080000
END:DAYLIGHT
BEGIN:STANDARD
TZOFFSETFROM:-0500
TZOFFSETTO:-0600
TZNAME:CST
DTSTART:20261101T070000
END:STANDARD
BEGIN:DAYLIGHT
TZOFFSETFROM:-0600
TZOFFSETTO:-0500
TZNAME:CDT
DTSTART:20270314T080000
END:DAYLIGHT
BEGIN:STANDARD
TZOFFSETFROM:-0500
TZOFFSETTO:-0600
TZNAME:CST
DTSTART:20271107T070000
END:STANDARD
END:VTIMEZONE
BEGIN:VEVENT
DTSTART;TZID=America/Chicago:20260424T113000
DTEND;TZID=America/Chicago:20260424T130000
DTSTAMP:20260424T020035
CREATED:20260316T145251Z
LAST-MODIFIED:20260316T145353Z
UID:4930-1777030200-1777035600@tcwla.org
SUMMARY:TCWLF/TCWLA Grants & Awards Luncheon
DESCRIPTION:This year’s annual TCWLF/TCWLA luncheon is scheduled for Friday\, April 24\, 2026\, at 11:30 a.m. at the Fairmont Hotel. You do not want to miss this annual signature event! \nThis year\, the Foundation is again giving $100\,000 in grants to hard-working charitable organizations providing much needed assistance to women and children in (and working with) the legal system. Our keynote speaker at the event will be Maria Leonard Olsen. And we will be honoring local women attorneys and law firm. \nThere are lots of ways to support this event: be a sponsor and purchase a table for the event\, be a corporate sponsor\, purchase individual tickets\, or buy raffle tickets to see if you can win great prizes during the luncheon.  See link to purchase:  https://tcwlf.square.site/ [tcwlf.square.site]  [tcwlf.square.site]
URL:https://tcwla.org/event/tcwlf-tcwla-grants-awards-luncheon/
LOCATION:Fairmont Hotel\, 101 Red River St\, Austin\, Texas\, 78701
END:VEVENT
END:VCALENDAR