BEGIN:VCALENDAR
VERSION:2.0
PRODID:-//Travis County Women Lawyers&#039; Association - ECPv6.15.20//NONSGML v1.0//EN
CALSCALE:GREGORIAN
METHOD:PUBLISH
X-WR-CALNAME:Travis County Women Lawyers&#039; Association
X-ORIGINAL-URL:https://tcwla.org
X-WR-CALDESC:Events for Travis County Women Lawyers&#039; Association
REFRESH-INTERVAL;VALUE=DURATION:PT1H
X-Robots-Tag:noindex
X-PUBLISHED-TTL:PT1H
BEGIN:VTIMEZONE
TZID:America/Chicago
BEGIN:DAYLIGHT
TZOFFSETFROM:-0600
TZOFFSETTO:-0500
TZNAME:CDT
DTSTART:20250309T080000
END:DAYLIGHT
BEGIN:STANDARD
TZOFFSETFROM:-0500
TZOFFSETTO:-0600
TZNAME:CST
DTSTART:20251102T070000
END:STANDARD
BEGIN:DAYLIGHT
TZOFFSETFROM:-0600
TZOFFSETTO:-0500
TZNAME:CDT
DTSTART:20260308T080000
END:DAYLIGHT
BEGIN:STANDARD
TZOFFSETFROM:-0500
TZOFFSETTO:-0600
TZNAME:CST
DTSTART:20261101T070000
END:STANDARD
BEGIN:DAYLIGHT
TZOFFSETFROM:-0600
TZOFFSETTO:-0500
TZNAME:CDT
DTSTART:20270314T080000
END:DAYLIGHT
BEGIN:STANDARD
TZOFFSETFROM:-0500
TZOFFSETTO:-0600
TZNAME:CST
DTSTART:20271107T070000
END:STANDARD
END:VTIMEZONE
BEGIN:VEVENT
DTSTART;TZID=America/Chicago:20260421T173000
DTEND;TZID=America/Chicago:20260421T193000
DTSTAMP:20260421T021407
CREATED:20260401T184316Z
LAST-MODIFIED:20260401T185052Z
UID:4943-1776792600-1776799800@tcwla.org
SUMMARY:An Evening of Wine & Wellness
DESCRIPTION:AYLA Health & Wellness and TCWLA Invite you to: An Evening of Wine &Wellness \n\nDate and time: April 21\, 2026 at 5:30p – 7:30p\nLocation: Just Well Law\, 1809 Pearl St.\, Austin TX 78701\n\n\nJoin AYLA and TCWLA for a free happy hour of networking\, wine\, and small bites\, followed by a Q&A on wellness and longevity tips with Marci and Sam Ditzell\, owners of Austin Longevity Clinic.When you want registration to\nRSVP at An Evening of Wine & Wellness – AYLA Events
URL:https://tcwla.org/event/an-evening-of-wine-wellness/
LOCATION:TX
ATTACH;FMTTYPE=image/png:https://tcwla.org/wp-content/uploads/2026/04/An-Evening-of-Wine-Wellness-2.png
END:VEVENT
END:VCALENDAR