BEGIN:VCALENDAR
VERSION:2.0
PRODID:-//Travis County Women Lawyers&#039; Association - ECPv6.15.20//NONSGML v1.0//EN
CALSCALE:GREGORIAN
METHOD:PUBLISH
X-WR-CALNAME:Travis County Women Lawyers&#039; Association
X-ORIGINAL-URL:https://tcwla.org
X-WR-CALDESC:Events for Travis County Women Lawyers&#039; Association
REFRESH-INTERVAL;VALUE=DURATION:PT1H
X-Robots-Tag:noindex
X-PUBLISHED-TTL:PT1H
BEGIN:VTIMEZONE
TZID:America/Chicago
BEGIN:DAYLIGHT
TZOFFSETFROM:-0600
TZOFFSETTO:-0500
TZNAME:CDT
DTSTART:20250309T080000
END:DAYLIGHT
BEGIN:STANDARD
TZOFFSETFROM:-0500
TZOFFSETTO:-0600
TZNAME:CST
DTSTART:20251102T070000
END:STANDARD
BEGIN:DAYLIGHT
TZOFFSETFROM:-0600
TZOFFSETTO:-0500
TZNAME:CDT
DTSTART:20260308T080000
END:DAYLIGHT
BEGIN:STANDARD
TZOFFSETFROM:-0500
TZOFFSETTO:-0600
TZNAME:CST
DTSTART:20261101T070000
END:STANDARD
BEGIN:DAYLIGHT
TZOFFSETFROM:-0600
TZOFFSETTO:-0500
TZNAME:CDT
DTSTART:20270314T080000
END:DAYLIGHT
BEGIN:STANDARD
TZOFFSETFROM:-0500
TZOFFSETTO:-0600
TZNAME:CST
DTSTART:20271107T070000
END:STANDARD
END:VTIMEZONE
BEGIN:VEVENT
DTSTART;TZID=America/Chicago:20260114T120000
DTEND;TZID=America/Chicago:20260114T130000
DTSTAMP:20260421T035459
CREATED:20251204T205642Z
LAST-MODIFIED:20251204T210821Z
UID:4765-1768392000-1768395600@tcwla.org
SUMMARY:Power Reads Book Club
DESCRIPTION:All leaders are readers!  Please come to the TCWLA Power Reads Book Club’s second meeting of the year on January 14 from 12:00-1:00 by Zoom.  We are excited to announce our next book selection of the year is My Own Words\, by Ruth Bader Ginsburg. \nAvid reader and TCWLA book club committee member\, Alisa Holahan will lead the discussion of this impactful book detailing the life of Justice Ginsburg–in her own words.   Please register below and come read with us\, come lead with us! \nRegister here:  \n\n\nLoading…
URL:https://tcwla.org/event/power-reads-book-club-8/
LOCATION:VIRTUAL
CATEGORIES:bookclub,member event
ATTACH;FMTTYPE=image/jpeg:https://tcwla.org/wp-content/uploads/2025/12/81YhHqS1GCL._SY522_.jpg
END:VEVENT
END:VCALENDAR