BEGIN:VCALENDAR
VERSION:2.0
PRODID:-//Travis County Women Lawyers&#039; Association - ECPv6.15.20//NONSGML v1.0//EN
CALSCALE:GREGORIAN
METHOD:PUBLISH
X-WR-CALNAME:Travis County Women Lawyers&#039; Association
X-ORIGINAL-URL:https://tcwla.org
X-WR-CALDESC:Events for Travis County Women Lawyers&#039; Association
REFRESH-INTERVAL;VALUE=DURATION:PT1H
X-Robots-Tag:noindex
X-PUBLISHED-TTL:PT1H
BEGIN:VTIMEZONE
TZID:America/Chicago
BEGIN:DAYLIGHT
TZOFFSETFROM:-0600
TZOFFSETTO:-0500
TZNAME:CDT
DTSTART:20240310T080000
END:DAYLIGHT
BEGIN:STANDARD
TZOFFSETFROM:-0500
TZOFFSETTO:-0600
TZNAME:CST
DTSTART:20241103T070000
END:STANDARD
BEGIN:DAYLIGHT
TZOFFSETFROM:-0600
TZOFFSETTO:-0500
TZNAME:CDT
DTSTART:20250309T080000
END:DAYLIGHT
BEGIN:STANDARD
TZOFFSETFROM:-0500
TZOFFSETTO:-0600
TZNAME:CST
DTSTART:20251102T070000
END:STANDARD
BEGIN:DAYLIGHT
TZOFFSETFROM:-0600
TZOFFSETTO:-0500
TZNAME:CDT
DTSTART:20260308T080000
END:DAYLIGHT
BEGIN:STANDARD
TZOFFSETFROM:-0500
TZOFFSETTO:-0600
TZNAME:CST
DTSTART:20261101T070000
END:STANDARD
END:VTIMEZONE
BEGIN:VEVENT
DTSTART;TZID=America/Chicago:20250924T170000
DTEND;TZID=America/Chicago:20250924T190000
DTSTAMP:20260421T035304
CREATED:20250814T155610Z
LAST-MODIFIED:20250814T184003Z
UID:4495-1758733200-1758740400@tcwla.org
SUMMARY:Fall Membership Event
DESCRIPTION:Please join us for our Fall Membership Appreciation at The Women’s Gallery by Julie Ahmad\, 2311 Thornton Road UNIT J & K\, Austin\, TX 78704\, on September 24\, 2025\, from 5–7 p.m.! It will be an evening to welcome new members and reconnect with old friends. Enjoy light bites\, beverages\, and great company as we kick off a new season of creativity\, connection\, and community. We can’t wait to see you there! \nLearn more about our venue space at: https://www.thewomensgallery.org/ [thewomensgallery.org] \nThank you to Queen of To Do and FindLaw for their generous sponsorships of this event! \nQueen of To Do – Austin’s Personal Assistant & Life Concierge Service \nFind Laws\, Legal Help\, and Attorneys – FindLaw \nRegister here:  \n\n\nLoading…
URL:https://tcwla.org/event/fall-membership-event-3/
LOCATION:The Women’s Galllery by Julie Ahmad\, 2311 Thornton Road UNIT J & K\, Austin\, TX\, 78704
CATEGORIES:member event,Social
ATTACH;FMTTYPE=image/jpeg:https://tcwla.org/wp-content/uploads/2024/08/thanksgiving02welcomemotion.jpg
END:VEVENT
END:VCALENDAR