BEGIN:VCALENDAR
VERSION:2.0
PRODID:-//Travis County Women Lawyers&#039; Association - ECPv6.15.20//NONSGML v1.0//EN
CALSCALE:GREGORIAN
METHOD:PUBLISH
X-ORIGINAL-URL:https://tcwla.org
X-WR-CALDESC:Events for Travis County Women Lawyers&#039; Association
REFRESH-INTERVAL;VALUE=DURATION:PT1H
X-Robots-Tag:noindex
X-PUBLISHED-TTL:PT1H
BEGIN:VTIMEZONE
TZID:America/Chicago
BEGIN:DAYLIGHT
TZOFFSETFROM:-0600
TZOFFSETTO:-0500
TZNAME:CDT
DTSTART:20240310T080000
END:DAYLIGHT
BEGIN:STANDARD
TZOFFSETFROM:-0500
TZOFFSETTO:-0600
TZNAME:CST
DTSTART:20241103T070000
END:STANDARD
BEGIN:DAYLIGHT
TZOFFSETFROM:-0600
TZOFFSETTO:-0500
TZNAME:CDT
DTSTART:20250309T080000
END:DAYLIGHT
BEGIN:STANDARD
TZOFFSETFROM:-0500
TZOFFSETTO:-0600
TZNAME:CST
DTSTART:20251102T070000
END:STANDARD
BEGIN:DAYLIGHT
TZOFFSETFROM:-0600
TZOFFSETTO:-0500
TZNAME:CDT
DTSTART:20260308T080000
END:DAYLIGHT
BEGIN:STANDARD
TZOFFSETFROM:-0500
TZOFFSETTO:-0600
TZNAME:CST
DTSTART:20261101T070000
END:STANDARD
END:VTIMEZONE
BEGIN:VEVENT
DTSTART;TZID=America/Chicago:20250520T170000
DTEND;TZID=America/Chicago:20250520T190000
DTSTAMP:20260420T145735
CREATED:20250413T170253Z
LAST-MODIFIED:20250413T170817Z
UID:4387-1747760400-1747767600@tcwla.org
SUMMARY:Spring Membership Appreciation
DESCRIPTION:Please join us for our spring Membership Event at the beautiful Hilgers House\, 712 W 16th St.\, on May 20\, 2025\, from 5–7 p.m.! We are excited to network with our members and enjoy some light bites and beverages. Looking forward to wrapping up our 2024-2025 year! \nDate and time: May 20\, 2025 5:00-7:00 \nLocation:  Hilgers House 712 W. 16th Street Austin\, TX \n\n\n\n\nLoading…
URL:https://tcwla.org/event/spring-membership-appreciation/
LOCATION:Hilgers House\, 712 W 16th St.\, Austin\, TX\, 78701\, United States
ATTACH;FMTTYPE=image/png:https://tcwla.org/wp-content/uploads/2025/04/Pink-Simple-Birthday-Invitation-Portrait.png
END:VEVENT
END:VCALENDAR