BEGIN:VCALENDAR
VERSION:2.0
PRODID:-//Travis County Women Lawyers&#039; Association - ECPv6.15.20//NONSGML v1.0//EN
CALSCALE:GREGORIAN
METHOD:PUBLISH
X-ORIGINAL-URL:https://tcwla.org
X-WR-CALDESC:Events for Travis County Women Lawyers&#039; Association
REFRESH-INTERVAL;VALUE=DURATION:PT1H
X-Robots-Tag:noindex
X-PUBLISHED-TTL:PT1H
BEGIN:VTIMEZONE
TZID:America/Chicago
BEGIN:DAYLIGHT
TZOFFSETFROM:-0600
TZOFFSETTO:-0500
TZNAME:CDT
DTSTART:20240310T080000
END:DAYLIGHT
BEGIN:STANDARD
TZOFFSETFROM:-0500
TZOFFSETTO:-0600
TZNAME:CST
DTSTART:20241103T070000
END:STANDARD
BEGIN:DAYLIGHT
TZOFFSETFROM:-0600
TZOFFSETTO:-0500
TZNAME:CDT
DTSTART:20250309T080000
END:DAYLIGHT
BEGIN:STANDARD
TZOFFSETFROM:-0500
TZOFFSETTO:-0600
TZNAME:CST
DTSTART:20251102T070000
END:STANDARD
BEGIN:DAYLIGHT
TZOFFSETFROM:-0600
TZOFFSETTO:-0500
TZNAME:CDT
DTSTART:20260308T080000
END:DAYLIGHT
BEGIN:STANDARD
TZOFFSETFROM:-0500
TZOFFSETTO:-0600
TZNAME:CST
DTSTART:20261101T070000
END:STANDARD
END:VTIMEZONE
BEGIN:VEVENT
DTSTART;TZID=America/Chicago:20250509T080000
DTEND;TZID=America/Chicago:20250509T163000
DTSTAMP:20260420T113745
CREATED:20250311T220846Z
LAST-MODIFIED:20250508T155956Z
UID:4227-1746777600-1746808200@tcwla.org
SUMMARY:A Day in Federal Court CLE
DESCRIPTION:Are you applying for admission to practice in the Western District of Texas? Looking to learn more about federal practice and earn some CLE credit? If so\, please attend TCWLA’s full-day seminar “A Day in Federal Court.” This CLE will take place on May 9\, 2025 from 9:00-4:30\, with breakfast and check-in beginning at 8:00am. The program provides 6.5 hours (including 1 hour of ethics) of CLE credit. Hear from judges\, local practitioners\, and courtroom staff on a variety of federal court topics including: Bankruptcy\, the Role of the Magistrate Judge’s Office\, From Arrest to Judgment: The Criminal Case Timeline and Contacts\, Clerk’s Office Resources\, Local Rules and Pleadings\, and more! The cost for government and non-profit attorneys is $145 and the cost for private sector attorneys is $200. Breakfast and lunch will be provided. We hope you’ll join us! \nAGENDA: 2025-05-06_Agenda-Day-in-Federal-Court \n  \nREGISTRATION:  \n\n\nLoading…
URL:https://tcwla.org/event/a-day-in-federal-court-cle-save-the-date/
LOCATION:United States Federal Courthouse\, 501 West Fifth Street\, Austin\, TX\, 78701
CATEGORIES:cle,member event
ATTACH;FMTTYPE=image/jpeg:https://tcwla.org/wp-content/uploads/2025/03/TXWD.jpg
END:VEVENT
END:VCALENDAR